BEGIN:VCALENDAR
VERSION:2.0
PRODID:-//ChamberMaster//Event Calendar 2.0//EN
METHOD:PUBLISH
X-PUBLISHED-TTL:P1H
REFRESH-INTERVAL:P1H
CALSCALE:GREGORIAN
BEGIN:VTIMEZONE
TZID:America/New_York
BEGIN:DAYLIGHT
RRULE:FREQ=YEARLY;BYMONTH=3;BYDAY=2SU
DTSTART:20070101T000000
TZOFFSETFROM:-0500
TZOFFSETTO:-0400
TZNAME:Eastern Daylight Time
END:DAYLIGHT
BEGIN:STANDARD
RRULE:FREQ=YEARLY;BYMONTH=11;BYDAY=1SU
DTSTART:20070101T000000
TZOFFSETFROM:-0400
TZOFFSETTO:-0500
TZNAME:Eastern Standard Time
END:STANDARD
END:VTIMEZONE
BEGIN:VEVENT
DTSTART;VALUE=DATE:20260613
DTEND;VALUE=DATE:20260615
TRANSP:TRANSPARENT
X-MICROSOFT-CDO-ALLDAYEVENT:TRUE
SUMMARY:Volley in the Valley Tournament
DESCRIPTION:Join us on June 13th and 14th for Catalyst's second annual volleyball tournament at 12 North Sports Bar\, this year with an added event! Day 1 will be team style tournament play. Day 2 will close out tournament play and introduce our "King of the Court"l tournament. Bring your friends\, spectators are encouraged!\nFood and beverage will be available to purchase throughout the day (no outside alcohol can be brought onto 12 North property)  \nDay 1: Team Tournament - 6/136 v 6 (Coed\, min 2 men\, 2 women on court at all times)\n$300 per team (12 team cap) - Team members due at registration\nTeam Check-In: 9:00 AM Games Begin: 10:00 AM (or sooner if opposing teams are checked in)4 game guarantee (3 preliminary and 1 round of playoff/bracket play)\nBracket Play Begins: approx 1:00 PMTournament Concludes/Awards Ceremony: approx. 6:00 PM\, or 6/14 if necessary\nPreliminary Round games will be 3 sets to 21 (win by 2\, cap at 25). All 3 sets will be played Bracket play will be best of 3 sets to 25 (win by 2\, cap at 30)1st\, 2nd\, 3rd place awards\nDay 2: King and Queen of the Hill! - 6/14    Individual Tournament\; players will sign up separatelyPlaced on 6v6 coed teams (randomized\, will change every game)$30 per player (36 player cap)8 game guarantee (each game will be played in 10 minute intervals)Each game will have no cap on points\; play until time expiresScore from each team will be added to player's overall pointsHighest point total for the top 2 men and top 2 women win!Team Check-In: 10:00 AM Games Begin: 11:00 AM (or sooner if all players have checked in)Tournament Concludes/Awards Ceremony: approx. 1:00 PM\nReffing/Rules of Play:Reffing will be done by volunteers with basic recreational volleyball rules expected to be followed with assistance from the teams\, for example:-3 hits per team per play-No touching the net-No carries-No returns on serves-Switch sides every set-Rotating serversBasic rules will be reiterated for refs and players on tournament day. \nTournament tank tops will be given to all participants (sizes due with registration)\nTeam and player registration deadline of May 27th\, 2026 to guarantee tank top. \nLiability Waivers: Waivers are required to play and receive your tank tops. Waivers will be available day of for completion. They can be turned in during team check-in on tournament day.  \nIf you wish to complete the waiver in advance\, you can find the waiver here: https://greateruticachamber.org/wp-content/uploads/2025/04/12-North-Volley-in-the-Valley-Liability-Waiver.pdf\nIf you wish to submit your team waivers prior to the tournament\, please email the completed/signed waivers in PDF format to kmajka@greateruticachamber.org.\nProceeds from this tournament will be used to help cover costs for other Catalyst charity events and fundraisers\, such as our annual Jingle Jam in December.\nBy supporting young professional events\, you are investing in the future of our regional workforce and helping to cultivate the next generation of business and community leaders. These events provide valuable opportunities for connection\, mentorship\, and professional development   all of which contribute to a stronger\, more vibrant local economy. Your involvement demonstrates a clear commitment to innovation\, talent retention\, and community engagement.
X-ALT-DESC;FMTTYPE=text/html:<!DOCTYPE html><html><head><title></title></head><body aria-disabled="false"><p dir="ltr" style="line-height:1.38\;margin-top:0pt\;margin-bottom:0pt\;"><span style="font-size:11pt\;font-family:Arial\,sans-serif\;color:#000000\;background-color:transparent\;font-weight:400\;font-style:normal\;font-variant:normal\;text-decoration:none\;vertical-align:baseline\;white-space:pre\;white-space:pre-wrap\;">Join us on<strong fr-original-style="" style="font-weight: 700\;">&nbsp\;June 13th and 14th</strong> for Catalyst&rsquo\;s second annual volleyball tournament at 12 North Sports Bar\, this year with an added event! Day 1 will be team style tournament play. Day 2 will close out tournament play and introduce our &ldquo\;King of the Court&rdquo\;l tournament. Bring your friends\, spectators are encouraged!</span></p><p dir="ltr" style="line-height:1.38\;margin-top:0pt\;margin-bottom:0pt\;"><br></p><p dir="ltr" style="line-height:1.38\;margin-top:0pt\;margin-bottom:0pt\;"><span style="font-size:11pt\;font-family:Arial\,sans-serif\;color:#000000\;background-color:transparent\;font-weight:400\;font-style:normal\;font-variant:normal\;text-decoration:none\;vertical-align:baseline\;white-space:pre\;white-space:pre-wrap\;">Food and beverage will be available to purchase throughout the day (<strong fr-original-style="" style="font-weight: 700\;">no outside alcohol can be brought onto 12 North property) &nbsp\;</strong></span></p><p dir="ltr" style="line-height:1.38\;margin-top:0pt\;margin-bottom:0pt\;"><br></p><p dir="ltr" style="line-height:1.38\;margin-top:0pt\;margin-bottom:0pt\;"><span style="font-size:11pt\;font-family:Arial\,sans-serif\;color:#000000\;background-color:transparent\;font-weight:400\;font-style:normal\;font-variant:normal\;text-decoration:none\;vertical-align:baseline\;white-space:pre\;white-space:pre-wrap\;"><strong fr-original-style="" style="font-weight: 700\;">Day 1: Team Tournament - 6/13</strong></span></p><p dir="ltr" style="line-height:1.38\;margin-top:0pt\;margin-bottom:0pt\;"><span style="font-size:11pt\;font-family:Arial\,sans-serif\;color:#000000\;background-color:transparent\;font-weight:400\;font-style:normal\;font-variant:normal\;text-decoration:none\;vertical-align:baseline\;white-space:pre\;white-space:pre-wrap\;">6 v 6 (Coed\, min 2 men\, 2 women on court at all times)</span></p><p dir="ltr" style="line-height:1.38\;margin-top:0pt\;margin-bottom:0pt\;"><br></p><p dir="ltr" style="line-height:1.38\;margin-top:0pt\;margin-bottom:0pt\;"><span style="font-size:11pt\;font-family:Arial\,sans-serif\;color:#000000\;background-color:transparent\;font-weight:400\;font-style:normal\;font-variant:normal\;text-decoration:none\;vertical-align:baseline\;white-space:pre\;white-space:pre-wrap\;"><strong fr-original-style="" style="font-weight: 700\;">$300 per team</strong> (12 team cap) - Team members due at registration</span></p><p dir="ltr" style="line-height:1.38\;margin-top:0pt\;margin-bottom:0pt\;"><br></p><p dir="ltr" style="line-height:1.656\;margin-top:0pt\;margin-bottom:0pt\;"><span style="font-size:11pt\;font-family:Arial\,sans-serif\;color:#000000\;background-color:transparent\;font-weight:400\;font-style:normal\;font-variant:normal\;text-decoration:none\;vertical-align:baseline\;white-space:pre\;white-space:pre-wrap\;"><strong fr-original-style="" style="font-weight: 700\;">Team Check-In</strong>: 9:00 AM&nbsp\;</span></p><p dir="ltr" style="line-height:1.656\;margin-top:0pt\;margin-bottom:0pt\;"><span style="font-size:11pt\;font-family:Arial\,sans-serif\;color:#000000\;background-color:transparent\;font-weight:400\;font-style:normal\;font-variant:normal\;text-decoration:none\;vertical-align:baseline\;white-space:pre\;white-space:pre-wrap\;"><strong fr-original-style="" style="font-weight: 700\;">Games Begin</strong>: 10:00 AM (or sooner if opposing teams are checked in)</span></p><p dir="ltr" style="line-height:1.656\;margin-top:0pt\;margin-bottom:0pt\;"><span style="font-size:11pt\;font-family:Arial\,sans-serif\;color:#000000\;background-color:transparent\;font-weight:400\;font-style:normal\;font-variant:normal\;text-decoration:none\;vertical-align:baseline\;white-space:pre\;white-space:pre-wrap\;">4 game guarantee (3 preliminary and 1 round of playoff/bracket play)</span></p><p dir="ltr" style="line-height:1.656\;margin-top:0pt\;margin-bottom:0pt\;"><br></p><p dir="ltr" style="line-height:1.656\;margin-top:0pt\;margin-bottom:0pt\;"><span style="font-size:11pt\;font-family:Arial\,sans-serif\;color:#000000\;background-color:transparent\;font-weight:400\;font-style:normal\;font-variant:normal\;text-decoration:none\;vertical-align:baseline\;white-space:pre\;white-space:pre-wrap\;"><strong fr-original-style="" style="font-weight: 700\;">Bracket Play Begins</strong>: approx 1:00 PM</span></p><p dir="ltr" style="line-height:1.656\;margin-top:0pt\;margin-bottom:0pt\;"><span style="font-size:11pt\;font-family:Arial\,sans-serif\;color:#000000\;background-color:transparent\;font-weight:400\;font-style:normal\;font-variant:normal\;text-decoration:none\;vertical-align:baseline\;white-space:pre\;white-space:pre-wrap\;"><strong fr-original-style="" style="font-weight: 700\;">Tournament Concludes/Awards Ceremony</strong>: approx. 6:00 PM\, or 6/14 if necessary</span></p><p dir="ltr" style="line-height:1.656\;margin-top:0pt\;margin-bottom:0pt\;"><br></p><p dir="ltr" style="line-height:1.656\;margin-top:0pt\;margin-bottom:0pt\;"><span style="font-size:11pt\;font-family:Arial\,sans-serif\;color:#000000\;background-color:transparent\;font-weight:400\;font-style:normal\;font-variant:normal\;text-decoration:none\;vertical-align:baseline\;white-space:pre\;white-space:pre-wrap\;">Preliminary Round games will be 3 sets to 21 (win by 2\, cap at 25). All 3 sets will be played&nbsp\;</span></p><p dir="ltr" style="line-height:1.656\;margin-top:0pt\;margin-bottom:0pt\;"><span style="font-size:11pt\;font-family:Arial\,sans-serif\;color:#000000\;background-color:transparent\;font-weight:400\;font-style:normal\;font-variant:normal\;text-decoration:none\;vertical-align:baseline\;white-space:pre\;white-space:pre-wrap\;">Bracket play will be best of 3 sets to 25 (win by 2\, cap at 30)</span></p><p dir="ltr" style="line-height:1.38\;margin-top:0pt\;margin-bottom:0pt\;"><span style="font-size:11pt\;font-family:Arial\,sans-serif\;color:#000000\;background-color:transparent\;font-weight:400\;font-style:normal\;font-variant:normal\;text-decoration:none\;vertical-align:baseline\;white-space:pre\;white-space:pre-wrap\;">1st\, 2nd\, 3rd place awards</span></p><p dir="ltr" style="line-height:1.38\;margin-top:0pt\;margin-bottom:0pt\;"><br></p><p dir="ltr" style="line-height:1.38\;margin-top:0pt\;margin-bottom:0pt\;"><span style="font-size:11pt\;font-family:Arial\,sans-serif\;color:#000000\;background-color:transparent\;font-weight:400\;font-style:normal\;font-variant:normal\;text-decoration:none\;vertical-align:baseline\;white-space:pre\;white-space:pre-wrap\;"><strong fr-original-style="" style="font-weight: 700\;">Day 2: King and Queen of the Hill! - 6/14</strong></span></p><p dir="ltr" style="line-height:1.38\;margin-top:0pt\;margin-bottom:0pt\;"><span style="font-size:11pt\;font-family:Arial\,sans-serif\;color:#000000\;background-color:transparent\;font-weight:400\;font-style:normal\;font-variant:normal\;text-decoration:none\;vertical-align:baseline\;white-space:pre\;white-space:pre-wrap\;"><span style="white-space:pre\;">&nbsp\; &nbsp\;&nbsp\;</span></span></p><p dir="ltr" style="line-height:1.7999999999999998\;margin-top:0pt\;margin-bottom:0pt\;"><span style="font-size:11pt\;font-family:Arial\,sans-serif\;color:#000000\;background-color:transparent\;font-weight:400\;font-style:normal\;font-variant:normal\;text-decoration:none\;vertical-align:baseline\;white-space:pre\;white-space:pre-wrap\;">Individual Tournament\; players will sign up separately</span></p><p dir="ltr" style="line-height:1.7999999999999998\;margin-top:0pt\;margin-bottom:0pt\;"><span style="font-size:11pt\;font-family:Arial\,sans-serif\;color:#000000\;background-color:transparent\;font-weight:400\;font-style:normal\;font-variant:normal\;text-decoration:none\;vertical-align:baseline\;white-space:pre\;white-space:pre-wrap\;">Placed on 6v6 coed teams (randomized\, will change every game)</span></p><p dir="ltr" style="line-height:1.7999999999999998\;margin-top:0pt\;margin-bottom:0pt\;"><span style="font-size:11pt\;font-family:Arial\,sans-serif\;color:#000000\;background-color:transparent\;font-weight:400\;font-style:normal\;font-variant:normal\;text-decoration:none\;vertical-align:baseline\;white-space:pre\;white-space:pre-wrap\;"><strong fr-original-style="" style="font-weight: 700\;">$30 per player&nbsp\;</strong>(36 player cap)</span></p><p dir="ltr" style="line-height:1.7999999999999998\;margin-top:0pt\;margin-bottom:0pt\;"><span style="font-size:11pt\;font-family:Arial\,sans-serif\;color:#000000\;background-color:transparent\;font-weight:400\;font-style:normal\;font-variant:normal\;text-decoration:none\;vertical-align:baseline\;white-space:pre\;white-space:pre-wrap\;">8 game guarantee (each game will be played in 10 minute intervals)</span></p><p dir="ltr" style="line-height:1.7999999999999998\;margin-top:0pt\;margin-bottom:0pt\;"><span style="font-size:11pt\;font-family:Arial\,sans-serif\;color:#000000\;background-color:transparent\;font-weight:400\;font-style:normal\;font-variant:normal\;text-decoration:none\;vertical-align:baseline\;white-space:pre\;white-space:pre-wrap\;">Each game will have no cap on points\; play until time expires</span></p><p dir="ltr" style="line-height:1.7999999999999998\;margin-top:0pt\;margin-bottom:0pt\;"><span style="font-size:11pt\;font-family:Arial\,sans-serif\;color:#000000\;background-color:transparent\;font-weight:400\;font-style:normal\;font-variant:normal\;text-decoration:none\;vertical-align:baseline\;white-space:pre\;white-space:pre-wrap\;">Score from each team will be added to player&rsquo\;s overall points</span></p><p dir="ltr" style="line-height:1.7999999999999998\;margin-top:0pt\;margin-bottom:0pt\;"><span style="font-size:11pt\;font-family:Arial\,sans-serif\;color:#000000\;background-color:transparent\;font-weight:400\;font-style:normal\;font-variant:normal\;text-decoration:none\;vertical-align:baseline\;white-space:pre\;white-space:pre-wrap\;">Highest point total for the top 2 men and top 2 women win!</span></p><p dir="ltr" style="line-height:1.656\;margin-top:0pt\;margin-bottom:0pt\;"><span style="font-size:11pt\;font-family:Arial\,sans-serif\;color:#000000\;background-color:transparent\;font-weight:400\;font-style:normal\;font-variant:normal\;text-decoration:none\;vertical-align:baseline\;white-space:pre\;white-space:pre-wrap\;"><strong fr-original-style="" style="font-weight: 700\;">Team Check-In</strong>: 10:00 AM&nbsp\;</span></p><p dir="ltr" style="line-height:1.656\;margin-top:0pt\;margin-bottom:0pt\;"><span style="font-size:11pt\;font-family:Arial\,sans-serif\;color:#000000\;background-color:transparent\;font-weight:400\;font-style:normal\;font-variant:normal\;text-decoration:none\;vertical-align:baseline\;white-space:pre\;white-space:pre-wrap\;"><strong fr-original-style="" style="font-weight: 700\;">Games Begin</strong>: 11:00 AM (or sooner if all players have checked in)</span></p><p dir="ltr" style="line-height:1.656\;margin-top:0pt\;margin-bottom:0pt\;"><span style="font-size:11pt\;font-family:Arial\,sans-serif\;color:#000000\;background-color:transparent\;font-weight:400\;font-style:normal\;font-variant:normal\;text-decoration:none\;vertical-align:baseline\;white-space:pre\;white-space:pre-wrap\;"><strong fr-original-style="" style="font-weight: 700\;">Tournament Concludes/Awards Ceremony</strong>: approx. 1:00 PM</span></p><p><br></p><p dir="ltr" style="line-height:1.656\;margin-top:0pt\;margin-bottom:0pt\;"><span style="font-size:11pt\;font-family:Arial\,sans-serif\;color:#000000\;background-color:transparent\;font-weight:700\;font-style:normal\;font-variant:normal\;text-decoration:none\;vertical-align:baseline\;white-space:pre\;white-space:pre-wrap\;">Reffing/Rules of Play:</span></p><p dir="ltr" style="line-height:1.656\;margin-top:0pt\;margin-bottom:0pt\;"><span style="font-size:11pt\;font-family:Arial\,sans-serif\;color:#000000\;background-color:transparent\;font-weight:400\;font-style:normal\;font-variant:normal\;text-decoration:none\;vertical-align:baseline\;white-space:pre\;white-space:pre-wrap\;">Reffing will be done by volunteers with basic recreational volleyball rules expected to be followed with assistance from the teams\, for example:</span></p><p dir="ltr" style="line-height:1.656\;margin-top:0pt\;margin-bottom:0pt\;"><span style="font-size:11pt\;font-family:Arial\,sans-serif\;color:#000000\;background-color:transparent\;font-weight:400\;font-style:normal\;font-variant:normal\;text-decoration:none\;vertical-align:baseline\;white-space:pre\;white-space:pre-wrap\;">-3 hits per team per play</span></p><p dir="ltr" style="line-height:1.656\;margin-top:0pt\;margin-bottom:0pt\;"><span style="font-size:11pt\;font-family:Arial\,sans-serif\;color:#000000\;background-color:transparent\;font-weight:400\;font-style:normal\;font-variant:normal\;text-decoration:none\;vertical-align:baseline\;white-space:pre\;white-space:pre-wrap\;">-No touching the net</span></p><p dir="ltr" style="line-height:1.656\;margin-top:0pt\;margin-bottom:0pt\;"><span style="font-size:11pt\;font-family:Arial\,sans-serif\;color:#000000\;background-color:transparent\;font-weight:400\;font-style:normal\;font-variant:normal\;text-decoration:none\;vertical-align:baseline\;white-space:pre\;white-space:pre-wrap\;">-No carries</span></p><p dir="ltr" style="line-height:1.656\;margin-top:0pt\;margin-bottom:0pt\;"><span style="font-size:11pt\;font-family:Arial\,sans-serif\;color:#000000\;background-color:transparent\;font-weight:400\;font-style:normal\;font-variant:normal\;text-decoration:none\;vertical-align:baseline\;white-space:pre\;white-space:pre-wrap\;">-No returns on serves</span></p><p dir="ltr" style="line-height:1.656\;margin-top:0pt\;margin-bottom:0pt\;"><span style="font-size:11pt\;font-family:Arial\,sans-serif\;color:#000000\;background-color:transparent\;font-weight:400\;font-style:normal\;font-variant:normal\;text-decoration:none\;vertical-align:baseline\;white-space:pre\;white-space:pre-wrap\;">-Switch sides every set</span></p><p dir="ltr" style="line-height:1.656\;margin-top:0pt\;margin-bottom:0pt\;"><span style="font-size:11pt\;font-family:Arial\,sans-serif\;color:#000000\;background-color:transparent\;font-weight:400\;font-style:normal\;font-variant:normal\;text-decoration:none\;vertical-align:baseline\;white-space:pre\;white-space:pre-wrap\;">-Rotating servers</span></p><p dir="ltr" style="line-height:1.656\;margin-top:0pt\;margin-bottom:0pt\;"><span style="font-size:11pt\;font-family:Arial\,sans-serif\;color:#000000\;background-color:transparent\;font-weight:400\;font-style:normal\;font-variant:normal\;text-decoration:none\;vertical-align:baseline\;white-space:pre\;white-space:pre-wrap\;">Basic rules will be reiterated for refs and players on tournament day.&nbsp\;</span></p><p><br></p><p dir="ltr" style="line-height:1.38\;margin-top:0pt\;margin-bottom:0pt\;"><span style="font-size:11pt\;font-family:Arial\,sans-serif\;color:#000000\;background-color:transparent\;font-weight:400\;font-style:normal\;font-variant:normal\;text-decoration:none\;vertical-align:baseline\;white-space:pre\;white-space:pre-wrap\;">Tournament tank tops will be given to all participants (sizes due with registration)</span></p><p dir="ltr" style="line-height:1.38\;margin-top:0pt\;margin-bottom:0pt\;"><br></p><p dir="ltr" style="line-height:1.38\;margin-top:0pt\;margin-bottom:0pt\;"><span style="font-size:11pt\;font-family:Arial\,sans-serif\;color:#000000\;background-color:transparent\;font-weight:400\;font-style:normal\;font-variant:normal\;text-decoration:none\;vertical-align:baseline\;white-space:pre\;white-space:pre-wrap\;">Team and player registration deadline of&nbsp\;</span><span style="font-size:11pt\;font-family:Arial\,sans-serif\;color:#000000\;background-color:transparent\;font-weight:700\;font-style:normal\;font-variant:normal\;text-decoration:none\;vertical-align:baseline\;white-space:pre\;white-space:pre-wrap\;">May 27th\, 2026&nbsp\;</span><span style="font-size:11pt\;font-family:Arial\,sans-serif\;color:#000000\;background-color:transparent\;font-weight:400\;font-style:normal\;font-variant:normal\;text-decoration:none\;vertical-align:baseline\;white-space:pre\;white-space:pre-wrap\;">to guarantee tank top.&nbsp\;</span></p><p><br></p><p dir="ltr" style="line-height:1.656\;margin-top:0pt\;margin-bottom:0pt\;"><span style="font-size:11pt\;font-family:Arial\,sans-serif\;color:#000000\;background-color:transparent\;font-weight:400\;font-style:normal\;font-variant:normal\;text-decoration:none\;vertical-align:baseline\;white-space:pre\;white-space:pre-wrap\;"><strong fr-original-style="" style="font-weight: 700\;">Liability Waivers:&nbsp\;</strong></span></p><p dir="ltr" style="line-height:1.656\;margin-top:0pt\;margin-bottom:0pt\;"><span style="font-size:11pt\;font-family:Arial\,sans-serif\;color:#000000\;background-color:transparent\;font-weight:400\;font-style:normal\;font-variant:normal\;text-decoration:none\;vertical-align:baseline\;white-space:pre\;white-space:pre-wrap\;">Waivers are required to play and receive your tank tops. Waivers will be available day of for completion. They can be turned in during team check-in on tournament day. &nbsp\;</span></p><p dir="ltr" style="line-height:1.656\;margin-top:0pt\;margin-bottom:0pt\;"><br></p><p dir="ltr" style="line-height:1.656\;margin-top:0pt\;margin-bottom:0pt\;"><span style="font-size:11pt\;font-family:Arial\,sans-serif\;color:#000000\;background-color:transparent\;font-weight:400\;font-style:normal\;font-variant:normal\;text-decoration:none\;vertical-align:baseline\;white-space:pre\;white-space:pre-wrap\;">If you wish to complete the waiver in advance\, you can find the waiver here: <a fr-original-style="" href="https://greateruticachamber.org/wp-content/uploads/2025/04/12-North-Volley-in-the-Valley-Liability-Waiver.pdf" style="user-select: auto\;">https://greateruticachamber.org/wp-content/uploads/2025/04/12-North-Volley-in-the-Valley-Liability-Waiver.pdf</a></span></p><p dir="ltr" style="line-height:1.656\;margin-top:0pt\;margin-bottom:0pt\;"><span style="font-size:12pt\;font-family:Arial\,sans-serif\;color:#000000\;background-color:transparent\;font-weight:400\;font-style:normal\;font-variant:normal\;text-decoration:none\;vertical-align:baseline\;white-space:pre\;white-space:pre-wrap\;"><br></span><span style="font-size:11pt\;font-family:Arial\,sans-serif\;color:#000000\;background-color:transparent\;font-weight:400\;font-style:normal\;font-variant:normal\;text-decoration:none\;vertical-align:baseline\;white-space:pre\;white-space:pre-wrap\;">If you wish to submit your team waivers prior to the tournament\, please email the completed/signed waivers in PDF format to <a data-fr-linked="true" fr-original-style="" href="mailto:kmajka@greateruticachamber.org" style="user-select: auto\;">kmajka@greateruticachamber.org</a>.</span></p><p dir="ltr" style="line-height:1.656\;margin-top:0pt\;margin-bottom:0pt\;"><br></p><p dir="ltr" style="line-height:1.38\;margin-top:0pt\;margin-bottom:0pt\;"><span style="font-size:11pt\;font-family:Arial\,sans-serif\;color:#000000\;background-color:transparent\;font-weight:400\;font-style:normal\;font-variant:normal\;text-decoration:none\;vertical-align:baseline\;white-space:pre\;white-space:pre-wrap\;">Proceeds from this tournament will be used to help cover costs for other Catalyst charity events and fundraisers\, such as our annual Jingle Jam in December.</span></p><p><br></p><p dir="ltr" style="line-height:1.38\;margin-top:0pt\;margin-bottom:0pt\;"><span style="font-size:11pt\;font-family:Arial\,sans-serif\;color:#000000\;background-color:transparent\;font-weight:400\;font-style:normal\;font-variant:normal\;text-decoration:none\;vertical-align:baseline\;white-space:pre\;white-space:pre-wrap\;">By supporting young professional events\, you are investing in the future of our regional workforce and helping to cultivate the next generation of business and community leaders. These events provide valuable opportunities for connection\, mentorship\, and professional development &mdash\; all of which contribute to a stronger\, more vibrant local economy. Your involvement demonstrates a clear commitment to innovation\, talent retention\, and community engagement.&nbsp\;</span></p><p dir="ltr" style="line-height:1.656\;margin-top:0pt\;margin-bottom:0pt\;"><br></p><p dir="ltr" style="line-height:1.656\;margin-top:0pt\;margin-bottom:0pt\;"><br></p></body></html>
LOCATION:10125 Mulaney Rd Utica NY 13502
UID:e.1845.1444859
SEQUENCE:3
DTSTAMP:20260419T194013Z
URL:https://greateruticachamberofcommerce.growthzoneapp.com/catalyst-events/Details/volley-in-the-valley-tournament-1711277?sourceTypeId=Hub
END:VEVENT
END:VCALENDAR
